BEGIN:VCALENDAR
VERSION:2.0
PRODID:-//ChamberMaster//Event Calendar 2.0//EN
METHOD:PUBLISH
X-PUBLISHED-TTL:P3D
REFRESH-INTERVAL:P3D
CALSCALE:GREGORIAN
BEGIN:VEVENT
DTSTART:20180413T120000Z
DTEND:20180413T130000Z
X-MICROSOFT-CDO-ALLDAYEVENT:FALSE
SUMMARY:Business @ Breakfast: Collaboration vs. Competition
DESCRIPTION:Our April Business @ Breakfast will be at the Robert E. Lee Hotel on Friday\, April 13 from 8:00 until 9:00 a.m. Jeffrey Shay\, Professor of Entrepreneurship and Leadership at Washington and Lee University\, will facilitate a discussion of "Collaboration vs. Competition" among small businesses and non-profits in areas such as ours. We hope you'll join us!
X-ALT-DESC;FMTTYPE=text/html:<span style="font-size:16px\;"><span style="color: rgb(0\, 0\, 0)\; font-family: Arial\, Helvetica\, sans-serif\;">Our April Business @ Breakfast will be at the Robert E. Lee Hotel on Friday\, April 13 from 8:00 until 9:00 a.m. J</span><span style="color: rgb(0\, 0\, 0)\; font-family: Arial\, Helvetica\, sans-serif\;">effrey Shay\,&nbsp\;</span><span style="color: rgb(0\, 0\, 0)\; font-family: Arial\, Helvetica\, sans-serif\;">Professor of Entrepreneurship and Leadership at Washington and Lee University\, will facilitate a discussion of &quot\;Collaboration vs. Competition&quot\; among small businesses and non-profits in areas such as ours. We hope you&#39\;ll join us!</span></span>
LOCATION:Robert E. Lee Hotel 30 South Main Street Lexington\, VA 24450
UID:e.2697.229
SEQUENCE:3
DTSTAMP:20260424T173226Z
URL:http://lexrockchamberva.chambermaster.com/events/details/business-breakfast-collaboration-vs-competition-229
END:VEVENT

END:VCALENDAR
