BEGIN:VCALENDAR
VERSION:2.0
PRODID:-//ChamberMaster//Event Calendar 2.0//EN
METHOD:PUBLISH
X-PUBLISHED-TTL:P3D
REFRESH-INTERVAL:P3D
CALSCALE:GREGORIAN
BEGIN:VEVENT
DTSTART:20180328T150000Z
DTEND:20180328T170000Z
X-MICROSOFT-CDO-ALLDAYEVENT:FALSE
SUMMARY:SBDC Start Smart Workshop
DESCRIPTION:Are you thinking about starting a new business?\n	Do you have lots of questions about how - or whether - to move forward?\n	Are you considering moving your hobby into a more structured business form?\n	Have you already started your small business and now realize you may have missed a few things?\n\n\nYour SV SBDC has answers\, information\, and resources to help.\n\nIn our Start Smart Workshops\, we discuss the path to good decisions and a successful start. You'll learn to take a thorough 360  approach to your business and all its components - from product development to target markets to financial projections. We'll also cover the regulations and registrations you need to know.\n\nFollow-up appointments are then available with SBDC business advisors to focus on your individual business needs.\n\nStart Smart workshops are held in various locations and at various times\; if this session doesn't suit\, check the Web Calendar for more options.\n\nBecause this workshop spans the lunch hour\, feel free to bring a bag lunch.\n\nClick here to register for any Start Smart or other SBDC workshop.
X-ALT-DESC;FMTTYPE=text/html:<ul>\n	<li style="margin: 0px 0px 1.5em\; padding: 0px\; border: 0px\; outline: 0px\; font-size: 14px\; vertical-align: baseline\; background-image: initial\; background-position: initial\; background-size: initial\; background-repeat: initial\; background-attachment: initial\; background-origin: initial\; background-clip: initial\; line-height: 1.6em\; font-family: Arial\, sans-serif\; color: rgb(97\, 99\, 101)\;">Are you thinking about starting a new business?</li>\n	<li style="margin: 0px 0px 1.5em\; padding: 0px\; border: 0px\; outline: 0px\; font-size: 14px\; vertical-align: baseline\; background-image: initial\; background-position: initial\; background-size: initial\; background-repeat: initial\; background-attachment: initial\; background-origin: initial\; background-clip: initial\; line-height: 1.6em\; font-family: Arial\, sans-serif\; color: rgb(97\, 99\, 101)\;">Do you have lots of questions about how - or whether - to move forward?</li>\n	<li style="margin: 0px 0px 1.5em\; padding: 0px\; border: 0px\; outline: 0px\; font-size: 14px\; vertical-align: baseline\; background-image: initial\; background-position: initial\; background-size: initial\; background-repeat: initial\; background-attachment: initial\; background-origin: initial\; background-clip: initial\; line-height: 1.6em\; font-family: Arial\, sans-serif\; color: rgb(97\, 99\, 101)\;">Are you considering moving your hobby into a more structured business form?</li>\n	<li style="margin: 0px 0px 1.5em\; padding: 0px\; border: 0px\; outline: 0px\; font-size: 14px\; vertical-align: baseline\; background-image: initial\; background-position: initial\; background-size: initial\; background-repeat: initial\; background-attachment: initial\; background-origin: initial\; background-clip: initial\; line-height: 1.6em\; font-family: Arial\, sans-serif\; color: rgb(97\, 99\, 101)\;">Have you already started your small business and now realize you may have missed a few things?</li>\n</ul>\n\n<p style="margin: 0px 0px 1.5em\; padding: 0px\; border: 0px\; outline: 0px\; font-size: 14px\; vertical-align: baseline\; background-image: initial\; background-position: initial\; background-size: initial\; background-repeat: initial\; background-attachment: initial\; background-origin: initial\; background-clip: initial\; line-height: 1.6em\; font-family: Arial\, sans-serif\; color: rgb(97\, 99\, 101)\;">Your SV SBDC has answers\, information\, and resources to help.</p>\n\n<p style="margin: 0px 0px 1.5em\; padding: 0px\; border: 0px\; outline: 0px\; font-size: 14px\; vertical-align: baseline\; background-image: initial\; background-position: initial\; background-size: initial\; background-repeat: initial\; background-attachment: initial\; background-origin: initial\; background-clip: initial\; line-height: 1.6em\; font-family: Arial\, sans-serif\; color: rgb(97\, 99\, 101)\;">In our Start Smart Workshops\, we discuss the path to good decisions and a successful start. You&#39\;ll learn to take a thorough 360&deg\; approach to your business and all its components - from product development to target markets to financial projections. We&#39\;ll also cover the regulations and registrations you need to know.</p>\n\n<p style="margin: 0px 0px 1.5em\; padding: 0px\; border: 0px\; outline: 0px\; font-size: 14px\; vertical-align: baseline\; background-image: initial\; background-position: initial\; background-size: initial\; background-repeat: initial\; background-attachment: initial\; background-origin: initial\; background-clip: initial\; line-height: 1.6em\; font-family: Arial\, sans-serif\; color: rgb(97\, 99\, 101)\;">Follow-up appointments are then available with SBDC business advisors to focus on your individual business needs.</p>\n\n<p style="margin: 0px 0px 1.5em\; padding: 0px\; border: 0px\; outline: 0px\; font-size: 14px\; vertical-align: baseline\; background-image: initial\; background-position: initial\; background-size: initial\; background-repeat: initial\; background-attachment: initial\; background-origin: initial\; background-clip: initial\; line-height: 1.6em\; font-family: Arial\, sans-serif\; color: rgb(97\, 99\, 101)\;">Start Smart workshops are held in various locations and at various times\; if this session doesn&#39\;t suit\, check the&nbsp\;<a href="http://www.valleysbdc.org/events/" rel="noopener" style="margin: 0px\; padding: 0px\; outline: none\; text-decoration-line: none\; background: transparent\; vertical-align: baseline\; color: rgb(109\, 192\, 107)\; transition: background-color 0.2s ease\, border 0.2s ease\, color 0.2s ease\, opacity 0.2s ease-in-out\;" target="_blank">Web Calendar</a>&nbsp\;for more options.</p>\n\n<p style="margin: 0px 0px 1.5em\; padding: 0px\; border: 0px\; outline: 0px\; font-size: 14px\; vertical-align: baseline\; background-image: initial\; background-position: initial\; background-size: initial\; background-repeat: initial\; background-attachment: initial\; background-origin: initial\; background-clip: initial\; line-height: 1.6em\; font-family: Arial\, sans-serif\; color: rgb(97\, 99\, 101)\;">Because this workshop spans the lunch hour\, feel free to bring a bag lunch.</p>\n\n<p style="margin: 0px 0px 1.5em\; padding: 0px\; border: 0px\; outline: 0px\; font-size: 14px\; vertical-align: baseline\; background-image: initial\; background-position: initial\; background-size: initial\; background-repeat: initial\; background-attachment: initial\; background-origin: initial\; background-clip: initial\; line-height: 1.6em\; font-family: Arial\, sans-serif\; color: rgb(97\, 99\, 101)\;"><strong style="margin: 0px\; padding: 0px\; border: 0px\; outline: 0px\; vertical-align: baseline\; background: transparent\;">Click&nbsp\;<a href="http://www.valleysbdc.org/register/" rel="noopener" style="margin: 0px\; padding: 0px\; outline: none\; text-decoration-line: none\; background: transparent\; vertical-align: baseline\; color: rgb(109\, 192\, 107)\; transition: background-color 0.2s ease\, border 0.2s ease\, color 0.2s ease\, opacity 0.2s ease-in-out\;" target="_blank">here</a>&nbsp\;to register for any Start Smart or other SBDC workshop.</strong></p>\n
LOCATION:Chamber of Commerce 18 East Nelson Street Suite 101 Lexington\, VA 24450
UID:e.2697.262
SEQUENCE:3
DTSTAMP:20260424T152635Z
URL:http://lexrockchamberva.chambermaster.com/events/details/sbdc-start-smart-workshop-262
END:VEVENT

END:VCALENDAR
